Package: crisprDesign Version: 1.9.0 Command: /home/biocbuild/bbs-3.21-bioc/R/bin/R CMD INSTALL crisprDesign StartedAt: 2025-02-17 15:43:08 -0500 (Mon, 17 Feb 2025) EndedAt: 2025-02-17 15:43:59 -0500 (Mon, 17 Feb 2025) EllapsedTime: 50.5 seconds RetCode: 0 Status: OK