Package: crisprDesign Version: 1.9.0 Command: /home/biocbuild/bbs-3.21-bioc/R/bin/R CMD build --keep-empty-dirs --no-resave-data crisprDesign StartedAt: 2025-02-17 16:47:16 -0500 (Mon, 17 Feb 2025) EndedAt: 2025-02-17 16:48:57 -0500 (Mon, 17 Feb 2025) EllapsedTime: 101.1 seconds RetCode: 0 Status: OK PackageFile: crisprDesign_1.9.0.tar.gz PackageFileSize: 2.603 MiB