Package: crisprDesign Version: 1.9.0 Command: /Library/Frameworks/R.framework/Resources/bin/R CMD build --keep-empty-dirs --no-resave-data crisprDesign StartedAt: 2025-02-17 16:21:07 -0500 (Mon, 17 Feb 2025) EndedAt: 2025-02-17 16:22:49 -0500 (Mon, 17 Feb 2025) EllapsedTime: 101.6 seconds RetCode: 0 Status: OK PackageFile: crisprDesign_1.9.0.tar.gz PackageFileSize: 2.603 MiB