Package: crisprDesign Version: 1.9.0 Command: rm -rf crisprDesign.buildbin-libdir && mkdir crisprDesign.buildbin-libdir && /Users/biocbuild/BBS/utils/build-universal.sh crisprDesign_1.9.0.tar.gz /Library/Frameworks/R.framework/Resources/bin/R crisprDesign.buildbin-libdir StartedAt: 2025-02-18 00:20:10 -0500 (Tue, 18 Feb 2025) EndedAt: 2025-02-18 00:21:22 -0500 (Tue, 18 Feb 2025) EllapsedTime: 71.8 seconds RetCode: 0 Status: OK PackageFile: crisprDesign_1.9.0.tgz PackageFileSize: 3.584 MiB