Package: crisprBwa Version: 1.11.0 Command: /home/biocbuild/bbs-3.21-bioc/R/bin/R CMD check --install=check:crisprBwa.install-out.txt --library=/home/biocbuild/bbs-3.21-bioc/R/site-library --timings crisprBwa_1.11.0.tar.gz StartedAt: 2025-02-20 21:05:58 -0500 (Thu, 20 Feb 2025) EndedAt: 2025-02-20 21:10:03 -0500 (Thu, 20 Feb 2025) EllapsedTime: 245.3 seconds RetCode: 0 Status: OK CheckDir: crisprBwa.Rcheck Warnings: 0