Package: crisprBwa Version: 1.11.0 Command: /Library/Frameworks/R.framework/Resources/bin/R CMD check --install=check:crisprBwa.install-out.txt --library=/Library/Frameworks/R.framework/Resources/library --no-vignettes --timings crisprBwa_1.11.0.tar.gz StartedAt: 2025-02-20 19:44:13 -0500 (Thu, 20 Feb 2025) EndedAt: 2025-02-20 19:48:36 -0500 (Thu, 20 Feb 2025) EllapsedTime: 262.9 seconds RetCode: 0 Status: OK CheckDir: crisprBwa.Rcheck Warnings: 0