Package: crisprBowtie Version: 1.11.0 Command: chmod a+r crisprBowtie -R && E:\biocbuild\bbs-3.21-bioc\R\bin\R.exe CMD build --keep-empty-dirs --no-resave-data crisprBowtie StartedAt: 2025-02-19 18:07:23 -0500 (Wed, 19 Feb 2025) EndedAt: 2025-02-19 18:08:24 -0500 (Wed, 19 Feb 2025) EllapsedTime: 60.5 seconds RetCode: 0 Status: OK PackageFile: crisprBowtie_1.11.0.tar.gz PackageFileSize: 319.5 KiB