Package: crisprBowtie Version: 1.11.0 Command: rm -rf crisprBowtie.buildbin-libdir && mkdir crisprBowtie.buildbin-libdir && E:\biocbuild\bbs-3.21-bioc\R\bin\R.exe CMD INSTALL --build --library=crisprBowtie.buildbin-libdir crisprBowtie_1.11.0.tar.gz StartedAt: 2025-02-20 07:34:10 -0500 (Thu, 20 Feb 2025) EndedAt: 2025-02-20 07:34:57 -0500 (Thu, 20 Feb 2025) EllapsedTime: 47.2 seconds RetCode: 0 Status: OK PackageFile: crisprBowtie_1.11.0.zip PackageFileSize: 342.1 KiB