Package: crisprBowtie Version: 1.11.0 Command: /home/biocbuild/bbs-3.21-bioc/R/bin/R CMD INSTALL crisprBowtie StartedAt: 2025-02-20 15:43:31 -0500 (Thu, 20 Feb 2025) EndedAt: 2025-02-20 15:44:02 -0500 (Thu, 20 Feb 2025) EllapsedTime: 31.8 seconds RetCode: 0 Status: OK