Package: crisprBowtie Version: 1.11.0 Command: rm -rf crisprBowtie.buildbin-libdir && mkdir crisprBowtie.buildbin-libdir && /Users/biocbuild/BBS/utils/build-universal.sh crisprBowtie_1.11.0.tar.gz /Library/Frameworks/R.framework/Resources/bin/R crisprBowtie.buildbin-libdir StartedAt: 2025-02-19 22:18:21 -0500 (Wed, 19 Feb 2025) EndedAt: 2025-02-19 22:18:36 -0500 (Wed, 19 Feb 2025) EllapsedTime: 15.3 seconds RetCode: 0 Status: OK PackageFile: crisprBowtie_1.11.0.tgz PackageFileSize: 335.4 KiB