Package: crisprBase Version: 1.11.0 Command: E:\biocbuild\bbs-3.21-bioc\R\bin\R.exe CMD check --no-multiarch --install=check:crisprBase.install-out.txt --library=E:\biocbuild\bbs-3.21-bioc\R\library --no-vignettes --timings crisprBase_1.11.0.tar.gz StartedAt: 2025-02-21 00:12:50 -0500 (Fri, 21 Feb 2025) EndedAt: 2025-02-21 00:14:51 -0500 (Fri, 21 Feb 2025) EllapsedTime: 120.3 seconds RetCode: 0 Status: OK CheckDir: crisprBase.Rcheck Warnings: 0