Package: cqn Version: 1.53.0 Command: rm -rf cqn.buildbin-libdir && mkdir cqn.buildbin-libdir && E:\biocbuild\bbs-3.21-bioc\R\bin\R.exe CMD INSTALL --build --library=cqn.buildbin-libdir cqn_1.53.0.tar.gz StartedAt: 2025-02-21 07:52:28 -0500 (Fri, 21 Feb 2025) EndedAt: 2025-02-21 07:52:38 -0500 (Fri, 21 Feb 2025) EllapsedTime: 10.5 seconds RetCode: 0 Status: OK PackageFile: cqn_1.53.0.zip PackageFileSize: 740.5 KiB