Package: cqn Version: 1.53.0 Command: /home/biocbuild/bbs-3.21-bioc/R/bin/R CMD check --install=check:cqn.install-out.txt --library=/home/biocbuild/bbs-3.21-bioc/R/site-library --timings cqn_1.53.0.tar.gz StartedAt: 2025-02-20 21:05:03 -0500 (Thu, 20 Feb 2025) EndedAt: 2025-02-20 21:05:58 -0500 (Thu, 20 Feb 2025) EllapsedTime: 55.1 seconds RetCode: 0 Status: OK CheckDir: cqn.Rcheck Warnings: 0