Package: cqn Version: 1.53.0 Command: /home/biocbuild/R/R/bin/R CMD INSTALL cqn StartedAt: 2025-01-29 20:17:01 -0000 (Wed, 29 Jan 2025) EndedAt: 2025-01-29 20:17:08 -0000 (Wed, 29 Jan 2025) EllapsedTime: 7.5 seconds RetCode: 0 Status: OK