Package: cpvSNP Version: 1.39.0 Command: chmod a+r cpvSNP -R && E:\biocbuild\bbs-3.21-bioc\R\bin\R.exe CMD build --keep-empty-dirs --no-resave-data cpvSNP StartedAt: 2025-02-20 18:07:59 -0500 (Thu, 20 Feb 2025) EndedAt: 2025-02-20 18:10:14 -0500 (Thu, 20 Feb 2025) EllapsedTime: 135.2 seconds RetCode: 0 Status: OK PackageFile: cpvSNP_1.39.0.tar.gz PackageFileSize: 1.98 MiB