Package: cpvSNP Version: 1.39.0 Command: rm -rf cpvSNP.buildbin-libdir && mkdir cpvSNP.buildbin-libdir && E:\biocbuild\bbs-3.21-bioc\R\bin\R.exe CMD INSTALL --build --library=cpvSNP.buildbin-libdir cpvSNP_1.39.0.tar.gz StartedAt: 2025-02-21 07:52:26 -0500 (Fri, 21 Feb 2025) EndedAt: 2025-02-21 07:53:21 -0500 (Fri, 21 Feb 2025) EllapsedTime: 54.8 seconds RetCode: 0 Status: OK PackageFile: cpvSNP_1.39.0.zip PackageFileSize: 2.354 MiB