Package: covRNA Version: 1.33.0 Command: rm -rf covRNA.buildbin-libdir && mkdir covRNA.buildbin-libdir && E:\biocbuild\bbs-3.21-bioc\R\bin\R.exe CMD INSTALL --build --library=covRNA.buildbin-libdir covRNA_1.33.0.tar.gz StartedAt: 2025-02-20 07:33:59 -0500 (Thu, 20 Feb 2025) EndedAt: 2025-02-20 07:34:20 -0500 (Thu, 20 Feb 2025) EllapsedTime: 21.1 seconds RetCode: 0 Status: OK PackageFile: covRNA_1.33.0.zip PackageFileSize: 560.2 KiB