Package: covRNA Version: 1.33.0 Command: /Library/Frameworks/R.framework/Resources/bin/R CMD INSTALL covRNA StartedAt: 2025-02-20 15:20:01 -0500 (Thu, 20 Feb 2025) EndedAt: 2025-02-20 15:20:09 -0500 (Thu, 20 Feb 2025) EllapsedTime: 7.7 seconds RetCode: 0 Status: OK