Package: covEB Version: 1.33.0 Command: E:\biocbuild\bbs-3.21-bioc\R\bin\R.exe CMD INSTALL covEB StartedAt: 2025-02-20 15:22:29 -0500 (Thu, 20 Feb 2025) EndedAt: 2025-02-20 15:22:40 -0500 (Thu, 20 Feb 2025) EllapsedTime: 11.4 seconds RetCode: 0 Status: OK