Package: covEB Version: 1.33.0 Command: E:\biocbuild\bbs-3.21-bioc\R\bin\R.exe CMD check --no-multiarch --install=check:covEB.install-out.txt --library=E:\biocbuild\bbs-3.21-bioc\R\library --no-vignettes --timings covEB_1.33.0.tar.gz StartedAt: 2025-02-21 00:11:55 -0500 (Fri, 21 Feb 2025) EndedAt: 2025-02-21 00:12:54 -0500 (Fri, 21 Feb 2025) EllapsedTime: 59.7 seconds RetCode: 0 Status: OK CheckDir: covEB.Rcheck Warnings: 0