Package: covEB Version: 1.33.0 Command: /Library/Frameworks/R.framework/Resources/bin/R CMD build --keep-empty-dirs --no-resave-data covEB StartedAt: 2025-02-20 16:00:16 -0500 (Thu, 20 Feb 2025) EndedAt: 2025-02-20 16:00:24 -0500 (Thu, 20 Feb 2025) EllapsedTime: 8.1 seconds RetCode: 0 Status: OK PackageFile: covEB_1.33.0.tar.gz PackageFileSize: 114.8 KiB