Package: countsimQC Version: 1.25.0 Command: /Library/Frameworks/R.framework/Resources/bin/R CMD build --keep-empty-dirs --no-resave-data countsimQC StartedAt: 2025-02-20 16:20:36 -0500 (Thu, 20 Feb 2025) EndedAt: 2025-02-20 16:22:20 -0500 (Thu, 20 Feb 2025) EllapsedTime: 103.7 seconds RetCode: 0 Status: OK PackageFile: countsimQC_1.25.0.tar.gz PackageFileSize: 440.4 KiB