Package: countsimQC Version: 1.25.0 Command: rm -rf countsimQC.buildbin-libdir && mkdir countsimQC.buildbin-libdir && /Users/biocbuild/BBS/utils/build-universal.sh countsimQC_1.25.0.tar.gz /Library/Frameworks/R.framework/Resources/bin/R countsimQC.buildbin-libdir StartedAt: 2025-02-21 00:25:47 -0500 (Fri, 21 Feb 2025) EndedAt: 2025-02-21 00:26:30 -0500 (Fri, 21 Feb 2025) EllapsedTime: 43.9 seconds RetCode: 0 Status: OK PackageFile: countsimQC_1.25.0.tgz PackageFileSize: 491.6 KiB