Package: countsimQC Version: 1.25.0 Command: rm -rf countsimQC.buildbin-libdir && mkdir countsimQC.buildbin-libdir && /Users/biocbuild/BBS/utils/build-universal.sh countsimQC_1.25.0.tar.gz /Library/Frameworks/R.framework/Resources/bin/R countsimQC.buildbin-libdir StartedAt: 2025-02-19 22:18:14 -0500 (Wed, 19 Feb 2025) EndedAt: 2025-02-19 22:18:27 -0500 (Wed, 19 Feb 2025) EllapsedTime: 13.3 seconds RetCode: 0 Status: OK PackageFile: countsimQC_1.25.0.tgz PackageFileSize: 492.2 KiB