Package: cosmosR Version: 1.15.0 Command: E:\biocbuild\bbs-3.21-bioc\R\bin\R.exe CMD check --no-multiarch --install=check:cosmosR.install-out.txt --library=E:\biocbuild\bbs-3.21-bioc\R\library --no-vignettes --timings cosmosR_1.15.0.tar.gz StartedAt: 2025-02-21 00:11:07 -0500 (Fri, 21 Feb 2025) EndedAt: 2025-02-21 00:12:50 -0500 (Fri, 21 Feb 2025) EllapsedTime: 103.0 seconds RetCode: 0 Status: OK CheckDir: cosmosR.Rcheck Warnings: 0