Package: cosmosR Version: 1.15.0 Command: rm -rf cosmosR.buildbin-libdir && mkdir cosmosR.buildbin-libdir && E:\biocbuild\bbs-3.21-bioc\R\bin\R.exe CMD INSTALL --build --library=cosmosR.buildbin-libdir cosmosR_1.15.0.tar.gz StartedAt: 2025-02-21 07:52:14 -0500 (Fri, 21 Feb 2025) EndedAt: 2025-02-21 07:52:37 -0500 (Fri, 21 Feb 2025) EllapsedTime: 22.7 seconds RetCode: 0 Status: OK PackageFile: cosmosR_1.15.0.zip PackageFileSize: 3.453 MiB