Package: cosmosR Version: 1.15.0 Command: /home/biocbuild/bbs-3.21-bioc/R/bin/R CMD INSTALL cosmosR StartedAt: 2025-02-20 15:40:10 -0500 (Thu, 20 Feb 2025) EndedAt: 2025-02-20 15:40:18 -0500 (Thu, 20 Feb 2025) EllapsedTime: 7.9 seconds RetCode: 0 Status: OK