Package: cosmosR Version: 1.15.0 Command: /home/biocbuild/bbs-3.21-bioc/R/bin/R CMD check --install=check:cosmosR.install-out.txt --library=/home/biocbuild/bbs-3.21-bioc/R/site-library --timings cosmosR_1.15.0.tar.gz StartedAt: 2025-02-20 21:03:23 -0500 (Thu, 20 Feb 2025) EndedAt: 2025-02-20 21:04:49 -0500 (Thu, 20 Feb 2025) EllapsedTime: 86.1 seconds RetCode: 0 Status: OK CheckDir: cosmosR.Rcheck Warnings: 0