Package: cosmosR Version: 1.15.0 Command: /Library/Frameworks/R.framework/Resources/bin/R CMD INSTALL cosmosR StartedAt: 2025-02-20 15:14:49 -0500 (Thu, 20 Feb 2025) EndedAt: 2025-02-20 15:14:53 -0500 (Thu, 20 Feb 2025) EllapsedTime: 3.9 seconds RetCode: 0 Status: OK