Package: cosmosR Version: 1.15.0 Command: rm -rf cosmosR.buildbin-libdir && mkdir cosmosR.buildbin-libdir && /Users/biocbuild/BBS/utils/build-universal.sh cosmosR_1.15.0.tar.gz /Library/Frameworks/R.framework/Resources/bin/R cosmosR.buildbin-libdir StartedAt: 2025-02-20 22:15:03 -0500 (Thu, 20 Feb 2025) EndedAt: 2025-02-20 22:15:07 -0500 (Thu, 20 Feb 2025) EllapsedTime: 4.1 seconds RetCode: 0 Status: OK PackageFile: cosmosR_1.15.0.tgz PackageFileSize: 3.451 MiB