Package: cosmiq Version: 1.41.0 Command: /Library/Frameworks/R.framework/Resources/bin/R CMD INSTALL cosmiq StartedAt: 2025-02-20 15:19:07 -0500 (Thu, 20 Feb 2025) EndedAt: 2025-02-20 15:19:23 -0500 (Thu, 20 Feb 2025) EllapsedTime: 15.8 seconds RetCode: 0 Status: OK