Package: cosmiq Version: 1.41.0 Command: /Library/Frameworks/R.framework/Resources/bin/R CMD check --install=check:cosmiq.install-out.txt --library=/Library/Frameworks/R.framework/Resources/library --no-vignettes --timings cosmiq_1.41.0.tar.gz StartedAt: 2025-02-20 18:41:06 -0500 (Thu, 20 Feb 2025) EndedAt: 2025-02-20 18:43:11 -0500 (Thu, 20 Feb 2025) EllapsedTime: 125.5 seconds RetCode: 0 Status: OK CheckDir: cosmiq.Rcheck Warnings: 0