Package: coseq Version: 1.31.0 Command: E:\biocbuild\bbs-3.21-bioc\R\bin\R.exe CMD check --no-multiarch --install=check:coseq.install-out.txt --library=E:\biocbuild\bbs-3.21-bioc\R\library --no-vignettes --timings coseq_1.31.0.tar.gz StartedAt: 2025-02-19 23:58:39 -0500 (Wed, 19 Feb 2025) EndedAt: 2025-02-20 00:03:30 -0500 (Thu, 20 Feb 2025) EllapsedTime: 291.4 seconds RetCode: 0 Status: OK CheckDir: coseq.Rcheck Warnings: 0