Package: coseq Version: 1.31.0 Command: /home/biocbuild/bbs-3.21-bioc/R/bin/R CMD build --keep-empty-dirs --no-resave-data coseq StartedAt: 2025-02-19 16:47:19 -0500 (Wed, 19 Feb 2025) EndedAt: 2025-02-19 16:51:21 -0500 (Wed, 19 Feb 2025) EllapsedTime: 242.3 seconds RetCode: 0 Status: OK PackageFile: coseq_1.31.0.tar.gz PackageFileSize: 1.81 MiB