Package: coseq Version: 1.31.0 Command: /Library/Frameworks/R.framework/Resources/bin/R CMD check --install=check:coseq.install-out.txt --library=/Library/Frameworks/R.framework/Resources/library --no-vignettes --timings coseq_1.31.0.tar.gz StartedAt: 2025-02-20 19:41:18 -0500 (Thu, 20 Feb 2025) EndedAt: 2025-02-20 19:45:15 -0500 (Thu, 20 Feb 2025) EllapsedTime: 237.1 seconds RetCode: 0 Status: OK CheckDir: coseq.Rcheck Warnings: 0