Package: coseq Version: 1.31.0 Command: rm -rf coseq.buildbin-libdir && mkdir coseq.buildbin-libdir && /Users/biocbuild/BBS/utils/build-universal.sh coseq_1.31.0.tar.gz /Library/Frameworks/R.framework/Resources/bin/R coseq.buildbin-libdir StartedAt: 2025-02-21 00:25:35 -0500 (Fri, 21 Feb 2025) EndedAt: 2025-02-21 00:26:20 -0500 (Fri, 21 Feb 2025) EllapsedTime: 45.1 seconds RetCode: 0 Status: OK PackageFile: coseq_1.31.0.tgz PackageFileSize: 2.265 MiB