Package: corral Version: 1.17.0 Command: /home/biocbuild/bbs-3.21-bioc/R/bin/R CMD check --install=check:corral.install-out.txt --library=/home/biocbuild/bbs-3.21-bioc/R/site-library --timings corral_1.17.0.tar.gz StartedAt: 2025-02-19 21:08:03 -0500 (Wed, 19 Feb 2025) EndedAt: 2025-02-19 21:25:41 -0500 (Wed, 19 Feb 2025) EllapsedTime: 1058.4 seconds RetCode: 0 Status: OK CheckDir: corral.Rcheck Warnings: 0