Package: corral Version: 1.17.0 Command: /home/biocbuild/bbs-3.21-bioc/R/bin/R CMD build --keep-empty-dirs --no-resave-data corral StartedAt: 2025-02-19 16:47:00 -0500 (Wed, 19 Feb 2025) EndedAt: 2025-02-19 16:59:44 -0500 (Wed, 19 Feb 2025) EllapsedTime: 763.9 seconds RetCode: 0 Status: OK PackageFile: corral_1.17.0.tar.gz PackageFileSize: 2.009 MiB