Package: corral Version: 1.17.0 Command: /Library/Frameworks/R.framework/Resources/bin/R CMD build --keep-empty-dirs --no-resave-data corral StartedAt: 2025-02-19 16:20:08 -0500 (Wed, 19 Feb 2025) EndedAt: 2025-02-19 16:32:29 -0500 (Wed, 19 Feb 2025) EllapsedTime: 740.7 seconds RetCode: 0 Status: OK PackageFile: corral_1.17.0.tar.gz PackageFileSize: 2.057 MiB