Package: corral Version: 1.17.0 Command: /home/biocbuild/R/R/bin/R CMD build --keep-empty-dirs --no-resave-data corral StartedAt: 2025-01-28 22:06:58 -0000 (Tue, 28 Jan 2025) EndedAt: 2025-01-28 22:25:05 -0000 (Tue, 28 Jan 2025) EllapsedTime: 1086.4 seconds RetCode: 0 Status: OK PackageFile: corral_1.17.0.tar.gz PackageFileSize: 1.653 MiB