Package: corral Version: 1.17.0 Command: /Library/Frameworks/R.framework/Resources/bin/R CMD INSTALL corral StartedAt: 2025-02-19 15:06:16 -0500 (Wed, 19 Feb 2025) EndedAt: 2025-02-19 15:06:28 -0500 (Wed, 19 Feb 2025) EllapsedTime: 11.5 seconds RetCode: 0 Status: OK