Package: corral Version: 1.17.0 Command: rm -rf corral.buildbin-libdir && mkdir corral.buildbin-libdir && /Users/biocbuild/BBS/utils/build-universal.sh corral_1.17.0.tar.gz /Library/Frameworks/R.framework/Resources/bin/R corral.buildbin-libdir StartedAt: 2025-02-19 22:18:08 -0500 (Wed, 19 Feb 2025) EndedAt: 2025-02-19 22:18:20 -0500 (Wed, 19 Feb 2025) EllapsedTime: 12.3 seconds RetCode: 0 Status: OK PackageFile: corral_1.17.0.tgz PackageFileSize: 1.806 MiB