Package: copa Version: 1.75.0 Command: /home/biocbuild/bbs-3.21-bioc/R/bin/R CMD INSTALL copa StartedAt: 2025-02-20 15:23:09 -0500 (Thu, 20 Feb 2025) EndedAt: 2025-02-20 15:23:12 -0500 (Thu, 20 Feb 2025) EllapsedTime: 3.3 seconds RetCode: 0 Status: OK