Package: copa Version: 1.75.0 Command: /Library/Frameworks/R.framework/Resources/bin/R CMD INSTALL copa StartedAt: 2025-02-19 15:04:50 -0500 (Wed, 19 Feb 2025) EndedAt: 2025-02-19 15:05:19 -0500 (Wed, 19 Feb 2025) EllapsedTime: 29.6 seconds RetCode: 0 Status: OK