Package: convert Version: 1.83.0 Command: E:\biocbuild\bbs-3.21-bioc\R\bin\R.exe CMD check --no-multiarch --install=check:convert.install-out.txt --library=E:\biocbuild\bbs-3.21-bioc\R\library --no-vignettes --timings convert_1.83.0.tar.gz StartedAt: 2025-02-21 00:07:57 -0500 (Fri, 21 Feb 2025) EndedAt: 2025-02-21 00:08:37 -0500 (Fri, 21 Feb 2025) EllapsedTime: 40.3 seconds RetCode: 0 Status: OK CheckDir: convert.Rcheck Warnings: 0