Package: convert Version: 1.83.0 Command: /home/biocbuild/bbs-3.21-bioc/R/bin/R CMD check --install=check:convert.install-out.txt --library=/home/biocbuild/bbs-3.21-bioc/R/site-library --timings convert_1.83.0.tar.gz StartedAt: 2025-02-20 21:02:00 -0500 (Thu, 20 Feb 2025) EndedAt: 2025-02-20 21:02:29 -0500 (Thu, 20 Feb 2025) EllapsedTime: 29.1 seconds RetCode: 0 Status: OK CheckDir: convert.Rcheck Warnings: 0