Package: convert Version: 1.83.0 Command: /home/biocbuild/bbs-3.21-bioc/R/bin/R CMD build --keep-empty-dirs --no-resave-data convert StartedAt: 2025-02-20 17:01:57 -0500 (Thu, 20 Feb 2025) EndedAt: 2025-02-20 17:02:04 -0500 (Thu, 20 Feb 2025) EllapsedTime: 7.0 seconds RetCode: 0 Status: OK PackageFile: convert_1.83.0.tar.gz PackageFileSize: 136.8 KiB