Package: convert Version: 1.83.0 Command: /Library/Frameworks/R.framework/Resources/bin/R CMD build --keep-empty-dirs --no-resave-data convert StartedAt: 2025-02-20 16:19:14 -0500 (Thu, 20 Feb 2025) EndedAt: 2025-02-20 16:19:24 -0500 (Thu, 20 Feb 2025) EllapsedTime: 10.3 seconds RetCode: 0 Status: OK PackageFile: convert_1.83.0.tar.gz PackageFileSize: 136.7 KiB