Package: conumee Version: 1.41.0 Command: /home/biocbuild/bbs-3.21-bioc/R/bin/R CMD check --install=check:conumee.install-out.txt --library=/home/biocbuild/bbs-3.21-bioc/R/site-library --timings conumee_1.41.0.tar.gz StartedAt: 2025-02-18 20:59:25 -0500 (Tue, 18 Feb 2025) EndedAt: 2025-02-18 21:24:02 -0500 (Tue, 18 Feb 2025) EllapsedTime: 1476.9 seconds RetCode: 0 Status: OK CheckDir: conumee.Rcheck Warnings: 0