Package: consensusOV Version: 1.29.0 Command: /Library/Frameworks/R.framework/Resources/bin/R CMD build --keep-empty-dirs --no-resave-data consensusOV StartedAt: 2025-02-20 16:19:05 -0500 (Thu, 20 Feb 2025) EndedAt: 2025-02-20 16:21:31 -0500 (Thu, 20 Feb 2025) EllapsedTime: 146.2 seconds RetCode: 0 Status: OK PackageFile: consensusOV_1.29.0.tar.gz PackageFileSize: 3.21 MiB